BEGIN:VCALENDAR
VERSION:2.0
PRODID:-//eventon.com NONSGML v1.0//EN
CALSCALE:GREGORIAN
METHOD:PUBLISH
BEGIN:VEVENT
UID:69eb8d889201c
DTSTAMP:20260424T153432Z
DTSTART:20210611
DTEND:20210612
LOCATION:
SUMMARY:<em>Enraged Monkeys</em><br>No Compromise
DESCRIPTION:Die Enraged Monkeys gründeten sich im Jahre 2012 aus dem Lead 
 Gitarristen und Sänger Flo aus der Band SUBHUMAN und Kalle und Manu aus de
 r 2011 aufgelösten Band “Die Naturtrüben”. Während einer Jam-Session
  entstand die Idee der Gründung einer Metalband mit Einflüssen aus Deathm
 etal und Hardcore. Ziel war die Einführung[..]\nhttps://rockaholic-magazin
 e.com/de/events/enraged-monkeys-no-compromise/
URL:https://rockaholic-magazine.com/de/events/enraged-monkeys-no-compromise/
END:VEVENT
END:VCALENDAR