BEGIN:VCALENDAR
VERSION:2.0
PRODID:-//eventon.com NONSGML v1.0//EN
CALSCALE:GREGORIAN
METHOD:PUBLISH
BEGIN:VEVENT
UID:69ebb88266c11
DTSTAMP:20260424T183754Z
DTSTART:20210507
DTEND:20210508
LOCATION:
SUMMARY:<em>Enraged Monkeys</em><br>Leave The Sea
DESCRIPTION:Enraged Monkeys are\,  as the name suggests\,  five rage-filled
  monkeys from southern Germany\,  who really heat up their audience with mo
 nkeycore\,  a mixture of hardcore\,  thrash\,  doom and death. Their debut 
 album &#8222;No Compromise&#8220; was released in the Corona year 2021. The
  Enraged Monkeys are a clear live band who[..]\nhttps://rockaholic-magazine
 .com/en/events/enraged-monkeys-leave-the-sea/
URL:https://rockaholic-magazine.com/en/events/enraged-monkeys-leave-the-sea/
END:VEVENT
END:VCALENDAR